BEGIN:VCALENDAR
VERSION:2.0
PRODID:-//CERN//INDICO//EN
BEGIN:VEVENT
SUMMARY:Break for participating in the "Codo con codo" activity
DTSTART;VALUE=DATE-TIME:20241125T103000Z
DTEND;VALUE=DATE-TIME:20241125T110000Z
DTSTAMP;VALUE=DATE-TIME:20260420T170431Z
UID:indico-contribution-25703@indico.ific.uv.es
DESCRIPTION:https://indico.ific.uv.es/event/7857/\n\nhttps://indico.ific.u
 v.es/event/7810/contributions/25703/
LOCATION:Salón de Actos del Edificio de Cabecera del Parque Científico
URL:https://indico.ific.uv.es/event/7810/contributions/25703/
END:VEVENT
END:VCALENDAR
