BEGIN:VCALENDAR
VERSION:2.0
PRODID:-//CERN//INDICO//EN
BEGIN:VEVENT
SUMMARY:Early Career Researchers' Initiative
DTSTART;VALUE=DATE-TIME:20241125T084500Z
DTEND;VALUE=DATE-TIME:20241125T085000Z
DTSTAMP;VALUE=DATE-TIME:20260419T171735Z
UID:indico-contribution-25702@indico.ific.uv.es
DESCRIPTION:Speakers: Emanuela Musumeci (IFIC)\nhttps://indico.ific.uv.es/
 event/7810/contributions/25702/
LOCATION:Salón de Actos del Edificio de Cabecera del Parque Científico
URL:https://indico.ific.uv.es/event/7810/contributions/25702/
END:VEVENT
END:VCALENDAR
