BEGIN:VCALENDAR
VERSION:2.0
PRODID:-//CERN//INDICO//EN
BEGIN:VEVENT
SUMMARY:Pablo Torres Sánchez
DTSTART;VALUE=DATE-TIME:20241125T095000Z
DTEND;VALUE=DATE-TIME:20241125T095500Z
DTSTAMP;VALUE=DATE-TIME:20260419T175328Z
UID:indico-contribution-25663@indico.ific.uv.es
DESCRIPTION:Speakers: Pablo Torres-Sánchez ()\nhttps://indico.ific.uv.es/
 event/7810/contributions/25663/
LOCATION:Salón de Actos del Edificio de Cabecera del Parque Científico
URL:https://indico.ific.uv.es/event/7810/contributions/25663/
END:VEVENT
END:VCALENDAR
