BEGIN:VCALENDAR
VERSION:2.0
PRODID:-//CERN//INDICO//EN
BEGIN:VEVENT
SUMMARY:Matthew Strugari
DTSTART;VALUE=DATE-TIME:20241125T094500Z
DTEND;VALUE=DATE-TIME:20241125T095000Z
DTSTAMP;VALUE=DATE-TIME:20260420T100541Z
UID:indico-contribution-25636@indico.ific.uv.es
DESCRIPTION:Speakers: Matthew Strugari (IFIC)\nhttps://indico.ific.uv.es/e
 vent/7810/contributions/25636/
LOCATION:Salón de Actos del Edificio de Cabecera del Parque Científico
URL:https://indico.ific.uv.es/event/7810/contributions/25636/
END:VEVENT
END:VCALENDAR
