BEGIN:VCALENDAR
VERSION:2.0
PRODID:-//CERN//INDICO//EN
BEGIN:VEVENT
SUMMARY:Vidya Vobbilisetti - CANCELED
DTSTART;VALUE=DATE-TIME:20241125T094000Z
DTEND;VALUE=DATE-TIME:20241125T094500Z
DTSTAMP;VALUE=DATE-TIME:20260419T175442Z
UID:indico-contribution-25626@indico.ific.uv.es
DESCRIPTION:Speakers: Vidya Sagar VOBBILISETTI ()\nhttps://indico.ific.uv.
 es/event/7810/contributions/25626/
LOCATION:Salón de Actos del Edificio de Cabecera del Parque Científico
URL:https://indico.ific.uv.es/event/7810/contributions/25626/
END:VEVENT
END:VCALENDAR
