BEGIN:VCALENDAR
VERSION:2.0
PRODID:-//CERN//INDICO//EN
BEGIN:VEVENT
SUMMARY:Antonio Rodríguez Sánchez
DTSTART;VALUE=DATE-TIME:20241125T093500Z
DTEND;VALUE=DATE-TIME:20241125T094000Z
DTSTAMP;VALUE=DATE-TIME:20260420T022654Z
UID:indico-contribution-25625@indico.ific.uv.es
DESCRIPTION:Speakers: Antonio Rodriguez Sanchez (IFIC (UV/CSIC))\nhttps://
 indico.ific.uv.es/event/7810/contributions/25625/
LOCATION:Salón de Actos del Edificio de Cabecera del Parque Científico
URL:https://indico.ific.uv.es/event/7810/contributions/25625/
END:VEVENT
END:VCALENDAR
