BEGIN:VCALENDAR
VERSION:2.0
PRODID:-//CERN//INDICO//EN
BEGIN:VEVENT
SUMMARY:Andrea Lagni
DTSTART;VALUE=DATE-TIME:20241125T092000Z
DTEND;VALUE=DATE-TIME:20241125T092500Z
DTSTAMP;VALUE=DATE-TIME:20260419T175237Z
UID:indico-contribution-25622@indico.ific.uv.es
DESCRIPTION:Speakers: Andrea Lagni (Universidad de Santiago de Compostela)
 \nhttps://indico.ific.uv.es/event/7810/contributions/25622/
LOCATION:Salón de Actos del Edificio de Cabecera del Parque Científico
URL:https://indico.ific.uv.es/event/7810/contributions/25622/
END:VEVENT
END:VCALENDAR
