BEGIN:VCALENDAR
VERSION:2.0
PRODID:-//CERN//INDICO//EN
BEGIN:VEVENT
SUMMARY:Shan Huang
DTSTART;VALUE=DATE-TIME:20241125T091500Z
DTEND;VALUE=DATE-TIME:20241125T092000Z
DTSTAMP;VALUE=DATE-TIME:20260420T022656Z
UID:indico-contribution-25620@indico.ific.uv.es
DESCRIPTION:Speakers: Shan Huang (IFIC - AITANA)\nhttps://indico.ific.uv.e
 s/event/7810/contributions/25620/
LOCATION:Salón de Actos del Edificio de Cabecera del Parque Científico
URL:https://indico.ific.uv.es/event/7810/contributions/25620/
END:VEVENT
END:VCALENDAR
