BEGIN:VCALENDAR
VERSION:2.0
PRODID:-//CERN//INDICO//EN
BEGIN:VEVENT
SUMMARY:Judith Höfer
DTSTART;VALUE=DATE-TIME:20241125T090500Z
DTEND;VALUE=DATE-TIME:20241125T091000Z
DTSTAMP;VALUE=DATE-TIME:20260419T134733Z
UID:indico-contribution-25619@indico.ific.uv.es
DESCRIPTION:Speakers: Judith Höfer (IFIC)\nhttps://indico.ific.uv.es/even
 t/7810/contributions/25619/
LOCATION:Salón de Actos del Edificio de Cabecera del Parque Científico
URL:https://indico.ific.uv.es/event/7810/contributions/25619/
END:VEVENT
END:VCALENDAR
