BEGIN:VCALENDAR
VERSION:2.0
PRODID:-//CERN//INDICO//EN
BEGIN:VEVENT
SUMMARY:Sara Coutiño de León
DTSTART;VALUE=DATE-TIME:20241125T090000Z
DTEND;VALUE=DATE-TIME:20241125T090500Z
DTSTAMP;VALUE=DATE-TIME:20260420T022657Z
UID:indico-contribution-25618@indico.ific.uv.es
DESCRIPTION:https://indico.ific.uv.es/event/7810/contributions/25618/
LOCATION:Salón de Actos del Edificio de Cabecera del Parque Científico
URL:https://indico.ific.uv.es/event/7810/contributions/25618/
END:VEVENT
END:VCALENDAR
