BEGIN:VCALENDAR
VERSION:2.0
PRODID:-//CERN//INDICO//EN
BEGIN:VEVENT
SUMMARY:Science at IFIC: summary of research lines
DTSTART;VALUE=DATE-TIME:20241125T082500Z
DTEND;VALUE=DATE-TIME:20241125T083500Z
DTSTAMP;VALUE=DATE-TIME:20260420T040705Z
UID:indico-contribution-25587@indico.ific.uv.es
DESCRIPTION:Speakers: Luis Alvarez Ruso (IFIC)\nhttps://indico.ific.uv.es/
 event/7810/contributions/25587/
LOCATION:Salón de Actos del Edificio de Cabecera del Parque Científico
URL:https://indico.ific.uv.es/event/7810/contributions/25587/
END:VEVENT
END:VCALENDAR
