BEGIN:VCALENDAR
VERSION:2.0
PRODID:-//CERN//INDICO//EN
BEGIN:VEVENT
SUMMARY:IFIC Directorate welcome
DTSTART;VALUE=DATE-TIME:20241125T081000Z
DTEND;VALUE=DATE-TIME:20241125T082500Z
DTSTAMP;VALUE=DATE-TIME:20260419T134806Z
UID:indico-contribution-25586@indico.ific.uv.es
DESCRIPTION:Speakers: Nuria Rius (IFIC\, Valencia University-CSIC)\nhttps:
 //indico.ific.uv.es/event/7810/contributions/25586/
LOCATION:Salón de Actos del Edificio de Cabecera del Parque Científico
URL:https://indico.ific.uv.es/event/7810/contributions/25586/
END:VEVENT
END:VCALENDAR
