BEGIN:VCALENDAR
VERSION:2.0
PRODID:-//CERN//INDICO//EN
BEGIN:VEVENT
SUMMARY:Outreach activities
DTSTART;VALUE=DATE-TIME:20241125T083500Z
DTEND;VALUE=DATE-TIME:20241125T084500Z
DTSTAMP;VALUE=DATE-TIME:20260419T175545Z
UID:indico-contribution-25115@indico.ific.uv.es
DESCRIPTION:Speakers: Azahara Rubio (IFIC)\nhttps://indico.ific.uv.es/even
 t/7810/contributions/25115/
LOCATION:Salón de Actos del Edificio de Cabecera del Parque Científico
URL:https://indico.ific.uv.es/event/7810/contributions/25115/
END:VEVENT
END:VCALENDAR
