BEGIN:VCALENDAR
VERSION:2.0
PRODID:-//CERN//INDICO//EN
BEGIN:VEVENT
SUMMARY:European Strategy for Particle Physics. Discussion
DTSTART;VALUE=DATE-TIME:20241121T113000Z
DTEND;VALUE=DATE-TIME:20241121T120000Z
DTSTAMP;VALUE=DATE-TIME:20260421T082705Z
UID:indico-contribution-25611@indico.ific.uv.es
DESCRIPTION:Speakers: Maria Jose Costa (IFIC)\nhttps://indico.ific.uv.es/e
 vent/7664/contributions/25611/
LOCATION:
URL:https://indico.ific.uv.es/event/7664/contributions/25611/
END:VEVENT
END:VCALENDAR
