BEGIN:VCALENDAR
VERSION:2.0
PRODID:-//CERN//INDICO//EN
BEGIN:VEVENT
SUMMARY:Discussion on European strategy - with instrumentation and LHC
DTSTART;VALUE=DATE-TIME:20241120T100000Z
DTEND;VALUE=DATE-TIME:20241120T103000Z
DTSTAMP;VALUE=DATE-TIME:20260422T032953Z
UID:indico-contribution-25610@indico.ific.uv.es
DESCRIPTION:https://indico.ific.uv.es/event/7664/contributions/25610/
LOCATION:
URL:https://indico.ific.uv.es/event/7664/contributions/25610/
END:VEVENT
END:VCALENDAR
