BEGIN:VCALENDAR
VERSION:2.0
PRODID:-//CERN//INDICO//EN
BEGIN:VEVENT
SUMMARY:Discussion on DRDs - with instrumentation network
DTSTART;VALUE=DATE-TIME:20241120T091500Z
DTEND;VALUE=DATE-TIME:20241120T100000Z
DTSTAMP;VALUE=DATE-TIME:20260422T145253Z
UID:indico-contribution-25609@indico.ific.uv.es
DESCRIPTION:https://indico.ific.uv.es/event/7664/contributions/25609/
LOCATION:
URL:https://indico.ific.uv.es/event/7664/contributions/25609/
END:VEVENT
END:VCALENDAR
