BEGIN:VCALENDAR
VERSION:2.0
PRODID:-//CERN//INDICO//EN
BEGIN:VEVENT
SUMMARY:Inputs for future colliders from Spanish and European Early Career
  Researchers
DTSTART;VALUE=DATE-TIME:20241119T132000Z
DTEND;VALUE=DATE-TIME:20241119T133500Z
DTSTAMP;VALUE=DATE-TIME:20260424T025443Z
UID:indico-contribution-25607@indico.ific.uv.es
DESCRIPTION:Speakers: Cristina Martín Pérez (CIEMAT)\nhttps://indico.ifi
 c.uv.es/event/7664/contributions/25607/
LOCATION:
URL:https://indico.ific.uv.es/event/7664/contributions/25607/
END:VEVENT
END:VCALENDAR
