BEGIN:VCALENDAR
VERSION:2.0
PRODID:-//CERN//INDICO//EN
BEGIN:VEVENT
SUMMARY:Welcome
DTSTART;VALUE=DATE-TIME:20241119T125500Z
DTEND;VALUE=DATE-TIME:20241119T130000Z
DTSTAMP;VALUE=DATE-TIME:20260421T110422Z
UID:indico-contribution-25546@indico.ific.uv.es
DESCRIPTION:Speakers: Cesar Domingo-Pardo (IFIC (CSIC-University of Valenc
 ia))\nhttps://indico.ific.uv.es/event/7664/contributions/25546/
LOCATION:
URL:https://indico.ific.uv.es/event/7664/contributions/25546/
END:VEVENT
END:VCALENDAR
