BEGIN:VCALENDAR
VERSION:2.0
PRODID:-//CERN//INDICO//EN
BEGIN:VEVENT
SUMMARY:The LHeC project
DTSTART;VALUE=DATE-TIME:20241119T161500Z
DTEND;VALUE=DATE-TIME:20241119T163500Z
DTSTAMP;VALUE=DATE-TIME:20260424T022641Z
UID:indico-contribution-25540@indico.ific.uv.es
DESCRIPTION:Speakers: Néstor Armesto (Universidade de Santiago de Compost
 ela)\nhttps://indico.ific.uv.es/event/7664/contributions/25540/
LOCATION:
URL:https://indico.ific.uv.es/event/7664/contributions/25540/
END:VEVENT
END:VCALENDAR
