BEGIN:VCALENDAR
VERSION:2.0
PRODID:-//CERN//INDICO//EN
BEGIN:VEVENT
SUMMARY:ECFA Higgs/top/EW factory studies
DTSTART;VALUE=DATE-TIME:20241119T153000Z
DTEND;VALUE=DATE-TIME:20241119T155000Z
DTSTAMP;VALUE=DATE-TIME:20260422T215728Z
UID:indico-contribution-25539@indico.ific.uv.es
DESCRIPTION:Speakers: Sven Heinemeyer (IFCA (CSIC))\nhttps://indico.ific.u
 v.es/event/7664/contributions/25539/
LOCATION:
URL:https://indico.ific.uv.es/event/7664/contributions/25539/
END:VEVENT
END:VCALENDAR
