BEGIN:VCALENDAR
VERSION:2.0
PRODID:-//CERN//INDICO//EN
BEGIN:VEVENT
SUMMARY:Accelerator R&D
DTSTART;VALUE=DATE-TIME:20241119T143500Z
DTEND;VALUE=DATE-TIME:20241119T145500Z
DTSTAMP;VALUE=DATE-TIME:20260422T000759Z
UID:indico-contribution-25538@indico.ific.uv.es
DESCRIPTION:Speakers: Concepción Oliver Amoros (CIEMAT)\nhttps://indico.i
 fic.uv.es/event/7664/contributions/25538/
LOCATION:
URL:https://indico.ific.uv.es/event/7664/contributions/25538/
END:VEVENT
END:VCALENDAR
