BEGIN:VCALENDAR
VERSION:2.0
PRODID:-//CERN//INDICO//EN
BEGIN:VEVENT
SUMMARY:A linear colliider at CERN
DTSTART;VALUE=DATE-TIME:20241119T133500Z
DTEND;VALUE=DATE-TIME:20241119T135500Z
DTSTAMP;VALUE=DATE-TIME:20260421T131425Z
UID:indico-contribution-25537@indico.ific.uv.es
DESCRIPTION:Speakers: Jenny List (DESY)\nhttps://indico.ific.uv.es/event/7
 664/contributions/25537/
LOCATION:
URL:https://indico.ific.uv.es/event/7664/contributions/25537/
END:VEVENT
END:VCALENDAR
