BEGIN:VCALENDAR
VERSION:2.0
PRODID:-//CERN//INDICO//EN
BEGIN:VEVENT
SUMMARY:The ILD detector concept
DTSTART;VALUE=DATE-TIME:20241119T141000Z
DTEND;VALUE=DATE-TIME:20241119T143000Z
DTSTAMP;VALUE=DATE-TIME:20260421T131425Z
UID:indico-contribution-25536@indico.ific.uv.es
DESCRIPTION:Speakers: Adrian Irles (IFIC (UV/CSIC) Valencia (ES))\nhttps:/
 /indico.ific.uv.es/event/7664/contributions/25536/
LOCATION:
URL:https://indico.ific.uv.es/event/7664/contributions/25536/
END:VEVENT
END:VCALENDAR
