BEGIN:VCALENDAR
VERSION:2.0
PRODID:-//CERN//INDICO//EN
BEGIN:VEVENT
SUMMARY:Introduction and news
DTSTART;VALUE=DATE-TIME:20241119T130000Z
DTEND;VALUE=DATE-TIME:20241119T132000Z
DTSTAMP;VALUE=DATE-TIME:20260421T110422Z
UID:indico-contribution-25535@indico.ific.uv.es
DESCRIPTION:Speakers: Marcel Vos (IFIC Valencia)\nhttps://indico.ific.uv.e
 s/event/7664/contributions/25535/
LOCATION:
URL:https://indico.ific.uv.es/event/7664/contributions/25535/
END:VEVENT
END:VCALENDAR
