BEGIN:VCALENDAR
VERSION:2.0
PRODID:-//CERN//INDICO//EN
BEGIN:VEVENT
SUMMARY:Status and physics opportunities of the ISOLDE Superconducting Rec
 oil Separator ISRS
DTSTART;VALUE=DATE-TIME:20241119T130000Z
DTEND;VALUE=DATE-TIME:20241119T131500Z
DTSTAMP;VALUE=DATE-TIME:20260424T154044Z
UID:indico-contribution-25491@indico.ific.uv.es
DESCRIPTION:Speakers: Ismael Martel (Univesity of Huelva)\nAuthors: I. Mar
 tel\, MJG. Borge\, I. Bustinduy\, J. Cederkall\, T. Kurtukian-Nieto\, J. R
 esta-López\, and O. Tengblad\, for the ISRS collaboration.\n\nAbstract \n
 \nThe HIE-ISOLDE facility accelerates a unique worldwide variety of radioa
 ctive ions up to collision energies close to 10 MeV/A. The physics program
  covers a broad range of nuclear structure studies\, from shell-evolution 
 to nuclear astrophysics. The ISOLDE Superconducting Recoil Separator (ISRS
 ) [1\, 2] will extend HIE-ISOLDE physics by providing unprecedented mass s
 electivity for in-beam and focal-plane spectroscopy. ISRS is an array of i
 ron-free superconducting multifunction magnets\, cooled by cryocoolers\, i
 ntegrated into a compact Fixed-Field Alternating Gradient (FFAG) particle 
 storage ring where A/Q selectivity is achieved by combining the fragment c
 yclotron frequency and RF extraction with ToF and particle identification 
 at the focal plane [3]. The ISRS collaboration has recently launched a R&D
  program funded by Spain. The ISRS concept can be extended for developing 
 an exotic beam storage-ring to perform in-ring experiments with an interna
 l target [4]. In this contribution we will review the physics opportunitie
 s and technical challenges of the ISRS spectrometer.\n\nReferences \n\n[1]
  I. Martel et al\, Letter of Intent “Design study of a Superconducting R
 ecoil Separator for HIE-ISOLDE”\, INTC-I-228\, 2021. \n\n[2] ISRS web: w
 ww.uhu.es/isrs/\n\n[3] J. Resta-López et al.\, “Design of a compact sup
 erconducting recoil separator for HIE-ISOLDE”. Proc. of IPAC 2023\, TUPA
 050\, 2023.\n\n[4] K. Blaum et al.\, “Storage ring facility at HIE-ISOLD
 E”\, Proposal INTC-O-014 (2012).\n\nhttps://indico.ific.uv.es/event/7664
 /contributions/25491/
LOCATION:
URL:https://indico.ific.uv.es/event/7664/contributions/25491/
END:VEVENT
END:VCALENDAR
