BEGIN:VCALENDAR
VERSION:2.0
PRODID:-//CERN//INDICO//EN
BEGIN:VEVENT
SUMMARY:NuDEX (a Nuclear DE-eXcitation code)
DTSTART;VALUE=DATE-TIME:20241119T155100Z
DTEND;VALUE=DATE-TIME:20241119T155800Z
DTSTAMP;VALUE=DATE-TIME:20260422T145253Z
UID:indico-contribution-25476@indico.ific.uv.es
DESCRIPTION:Speakers: Emilio Mendoza (CIEMAT)\nDurante los últimos años 
 hemos desarrollado en la Unidad de Innovación Nuclear del CIEMAT el códi
 go NuDEX\, el cual sirve para modelar la generación de cascadas de rayos 
 gamma y electrones provenientes de desexcitaciones nucleares.\nLa forma de
  operar de NuDEX es muy similar a la de DICEBOX [1] o DEGEN [2]: lo que ha
 ce es generar el esquema de niveles completo por debajo del nivel del que 
 parte la desexcitación\, junto con las probabilidades de transición asoc
 iadas y coeficientes de conversión interna. Todos estos valores se toman 
 de una base de datos basada en RIPL-3 y ENSDF\, si son conocidos\, o se ge
 neran a partir de modelos estadísticos\, en caso contrario. Dicha base de
  datos se distribuye con el código y permite generar cascadas de desexcit
 ación de manera automática para una gran cantidad de núcleos.\nEn julio
  del presente año hemos hecho pública la primera versión de NuDEX\, que
  está disponible a través del siguiente enlace: https://github.com/UIN-C
 IEMAT/NuDEX.\nEn la reunión del CPAN presentaremos el código y mostrarem
 os posibles aplicaciones del mismo.\n\n[1] F. Bečvář\, Simulation of
  γ cascades in complex nuclei with emphasis on assessment of uncertaintie
 s of cascade-related quantities\, Nucl. Instrum. Methods A 417 (2) (1998) 
 434 – 449. https://doi.org/10.1016/S0168-9002(98)00787-6\n\n[2] D. Jorda
 n et al.\, An event generator for simulations of complex β-decay experime
 nts\, Nucl. Instrum. Methods A 828 (2016) 52 – 57. https://doi.org/10.10
 16/j.nima.2016.05.034\n\nhttps://indico.ific.uv.es/event/7664/contribution
 s/25476/
LOCATION:
URL:https://indico.ific.uv.es/event/7664/contributions/25476/
END:VEVENT
END:VCALENDAR
