BEGIN:VCALENDAR
VERSION:2.0
PRODID:-//CERN//INDICO//EN
BEGIN:VEVENT
SUMMARY:Discussion on future Red LHC Workshops
DTSTART;VALUE=DATE-TIME:20241119T171000Z
DTEND;VALUE=DATE-TIME:20241119T173000Z
DTSTAMP;VALUE=DATE-TIME:20260422T032950Z
UID:indico-contribution-25448@indico.ific.uv.es
DESCRIPTION:Speakers: Juan Antonio Aguilar Saavedra (IFT UAM-CSIC)\, Sven 
 Heinemeyer (IFT (CSIC))\nhttps://indico.ific.uv.es/event/7664/contribution
 s/25448/
LOCATION: M1 (Aula Magna)
URL:https://indico.ific.uv.es/event/7664/contributions/25448/
END:VEVENT
END:VCALENDAR
