BEGIN:VCALENDAR
VERSION:2.0
PRODID:-//CERN//INDICO//EN
BEGIN:VEVENT
SUMMARY:Topical subject: development of an AI-based Central Trigger Proces
 sor for CTA
DTSTART;VALUE=DATE-TIME:20241120T100000Z
DTEND;VALUE=DATE-TIME:20241120T103000Z
DTSTAMP;VALUE=DATE-TIME:20260424T170500Z
UID:indico-contribution-25447@indico.ific.uv.es
DESCRIPTION:Speakers: Luis Ángel Tejedor Álvarez (Universidad Complutens
 e de Madrid)\nhttps://indico.ific.uv.es/event/7664/contributions/25447/
LOCATION:
URL:https://indico.ific.uv.es/event/7664/contributions/25447/
END:VEVENT
END:VCALENDAR
