BEGIN:VCALENDAR
VERSION:2.0
PRODID:-//CERN//INDICO//EN
BEGIN:VEVENT
SUMMARY:Activities at CIEMAT
DTSTART;VALUE=DATE-TIME:20241120T092000Z
DTEND;VALUE=DATE-TIME:20241120T095000Z
DTSTAMP;VALUE=DATE-TIME:20260421T204605Z
UID:indico-contribution-25446@indico.ific.uv.es
DESCRIPTION:Speakers: Cristina Fernández Bedoya (CIEMAT)\nhttps://indico.
 ific.uv.es/event/7664/contributions/25446/
LOCATION:
URL:https://indico.ific.uv.es/event/7664/contributions/25446/
END:VEVENT
END:VCALENDAR
