BEGIN:VCALENDAR
VERSION:2.0
PRODID:-//CERN//INDICO//EN
BEGIN:VEVENT
SUMMARY:Activities at IFIC
DTSTART;VALUE=DATE-TIME:20241120T084000Z
DTEND;VALUE=DATE-TIME:20241120T091000Z
DTSTAMP;VALUE=DATE-TIME:20260422T071159Z
UID:indico-contribution-25445@indico.ific.uv.es
DESCRIPTION:Speakers: Arantza Oyanguren (IFIC- Valencia)\nhttps://indico.i
 fic.uv.es/event/7664/contributions/25445/
LOCATION:
URL:https://indico.ific.uv.es/event/7664/contributions/25445/
END:VEVENT
END:VCALENDAR
