BEGIN:VCALENDAR
VERSION:2.0
PRODID:-//CERN//INDICO//EN
BEGIN:VEVENT
SUMMARY:Topical subject: the on-site analysis of the MAGIC and LST-1 teles
 copes
DTSTART;VALUE=DATE-TIME:20241120T080000Z
DTEND;VALUE=DATE-TIME:20241120T083000Z
DTSTAMP;VALUE=DATE-TIME:20260421T173710Z
UID:indico-contribution-25444@indico.ific.uv.es
DESCRIPTION:Speakers: Maria Lainez (IPARCOS-UCM)\nhttps://indico.ific.uv.e
 s/event/7664/contributions/25444/
LOCATION:
URL:https://indico.ific.uv.es/event/7664/contributions/25444/
END:VEVENT
END:VCALENDAR
