BEGIN:VCALENDAR
VERSION:2.0
PRODID:-//CERN//INDICO//EN
BEGIN:VEVENT
SUMMARY:Topical subject: Inclusive Flavor Tagging at LHCb
DTSTART;VALUE=DATE-TIME:20241119T165000Z
DTEND;VALUE=DATE-TIME:20241119T172000Z
DTSTAMP;VALUE=DATE-TIME:20260421T204605Z
UID:indico-contribution-25443@indico.ific.uv.es
DESCRIPTION:Speakers: Claire Prouve (Universidade da Coruña)\nhttps://ind
 ico.ific.uv.es/event/7664/contributions/25443/
LOCATION:
URL:https://indico.ific.uv.es/event/7664/contributions/25443/
END:VEVENT
END:VCALENDAR
