BEGIN:VCALENDAR
VERSION:2.0
PRODID:-//CERN//INDICO//EN
BEGIN:VEVENT
SUMMARY:Activities at UB
DTSTART;VALUE=DATE-TIME:20241119T161000Z
DTEND;VALUE=DATE-TIME:20241119T164000Z
DTSTAMP;VALUE=DATE-TIME:20260421T204604Z
UID:indico-contribution-25442@indico.ific.uv.es
DESCRIPTION:Speakers: Lukas Calefice (Universitat de Barcelona / ICCUB)\nh
 ttps://indico.ific.uv.es/event/7664/contributions/25442/
LOCATION:
URL:https://indico.ific.uv.es/event/7664/contributions/25442/
END:VEVENT
END:VCALENDAR
