BEGIN:VCALENDAR
VERSION:2.0
PRODID:-//CERN//INDICO//EN
BEGIN:VEVENT
SUMMARY:Activities at Oviedo University
DTSTART;VALUE=DATE-TIME:20241119T142000Z
DTEND;VALUE=DATE-TIME:20241119T145000Z
DTSTAMP;VALUE=DATE-TIME:20260422T105528Z
UID:indico-contribution-25440@indico.ific.uv.es
DESCRIPTION:Speakers: Santiago Folgueras (Universidad de Oviedo)\nhttps://
 indico.ific.uv.es/event/7664/contributions/25440/
LOCATION:
URL:https://indico.ific.uv.es/event/7664/contributions/25440/
END:VEVENT
END:VCALENDAR
