BEGIN:VCALENDAR
VERSION:2.0
PRODID:-//CERN//INDICO//EN
BEGIN:VEVENT
SUMMARY:Activities at IGFAE
DTSTART;VALUE=DATE-TIME:20241119T130000Z
DTEND;VALUE=DATE-TIME:20241119T133000Z
DTSTAMP;VALUE=DATE-TIME:20260422T071115Z
UID:indico-contribution-25439@indico.ific.uv.es
DESCRIPTION:Speakers: Veronika Chobanova (University of Santiago de Compos
 tela)\, Xabier Cid Vidal (USC - IGFAE)\nhttps://indico.ific.uv.es/event/76
 64/contributions/25439/
LOCATION:
URL:https://indico.ific.uv.es/event/7664/contributions/25439/
END:VEVENT
END:VCALENDAR
