BEGIN:VCALENDAR
VERSION:2.0
PRODID:-//CERN//INDICO//EN
BEGIN:VEVENT
SUMMARY:Activities at UDC - LHCb ACDC
DTSTART;VALUE=DATE-TIME:20241119T134000Z
DTEND;VALUE=DATE-TIME:20241119T141000Z
DTSTAMP;VALUE=DATE-TIME:20260422T071149Z
UID:indico-contribution-25438@indico.ific.uv.es
DESCRIPTION:Speakers: Diego Martinez Santos (Xunta de Galicia and Universi
 dade da Coruña)\, Veronika Chobanova (University of Santiago de Compostel
 a)\nWe present the status of the LHCb-ACDC project at University of A Coru
 na. The project focuses on Flavor Tagging\, Real Time Analysis\, and offli
 ne data analyses at LHCb.\n\nhttps://indico.ific.uv.es/event/7664/contribu
 tions/25438/
LOCATION:
URL:https://indico.ific.uv.es/event/7664/contributions/25438/
END:VEVENT
END:VCALENDAR
