BEGIN:VCALENDAR
VERSION:2.0
PRODID:-//CERN//INDICO//EN
BEGIN:VEVENT
SUMMARY:Ridges and latent heat in rotating neutron stars in GR and modifie
 d gravity
DTSTART;VALUE=DATE-TIME:20241120T080000Z
DTEND;VALUE=DATE-TIME:20241120T081500Z
DTSTAMP;VALUE=DATE-TIME:20260421T165134Z
UID:indico-contribution-25296@indico.ific.uv.es
DESCRIPTION:Speakers: Pablo Navarro Moreno ()\nWe explore "ridges" in the 
 macroscopic properties of rotating neutron stars as potential indicators o
 f first-order phase transitions in their matter. These phase transitions i
 nduce non-analytic behavior in observables like angular momentum\, moment 
 of inertia\, mass\, and radii\, with the intensity of this behavior direct
 ly tied to the latent heat of the transition. Notably\, the Seidov limit s
 ets a bound on the maximum latent heat a phase transition can produce befo
 re its excess energy density\, not compensated by additional pressure\, re
 sults in gravitational collapse.\n\nAdditionally\, we investigate how modi
 fied gravity theories\, such as quadratic f(R) gravity\, affect these phen
 omena. In this context\, we find that the Seidov limit undergoes substanti
 al modification compared to General Relativity. Breaching the Seidov limit
  would lead to two significant discoveries: evidence of a first-order phas
 e transition in neutron star matter and a deviation from General Relativit
 y.\n\nBased on Annals Phys. 459 (2023) 169487\, 2307.15366 and arXiv:2409.
 16201 [gr-qc].\n\nhttps://indico.ific.uv.es/event/7664/contributions/25296
 /
LOCATION:
URL:https://indico.ific.uv.es/event/7664/contributions/25296/
END:VEVENT
END:VCALENDAR
