BEGIN:VCALENDAR
VERSION:2.0
PRODID:-//CERN//INDICO//EN
BEGIN:VEVENT
SUMMARY:Early Universe hypercharge breaking and neutrino mass generation
DTSTART;VALUE=DATE-TIME:20241120T084500Z
DTEND;VALUE=DATE-TIME:20241120T090000Z
DTSTAMP;VALUE=DATE-TIME:20260424T154105Z
UID:indico-contribution-25290@indico.ific.uv.es
DESCRIPTION:Speakers: Álvaro Lozano Onrubia (IFT UAM-CSIC & Universidad A
 utónoma de Madrid)\nRadiative neutrino mass models represent a vast lands
 cape of possibilities for very exotic beyond Standard Model physics. In th
 is talk\, we will explore the idea of non-standard thermal histories in th
 e Zee-Babu neutrino mass generation model and specifically consider the po
 ssibility of hypercharge non-restoration in the early Universe. We will fi
 nd that careful treatment of finite-temperature perturbation theory is cru
 cial for mapping out the parameter space of phenomenological interest in s
 uch scenarios. The highlight of the talk will be a novel baryon asymmetry 
 generating mechanism which is driven by the high-temperature hypercharge-b
 reaking phase and the specific ingredients generically found in radiative 
 neutrino mass models.\n\nhttps://indico.ific.uv.es/event/7664/contribution
 s/25290/
LOCATION:
URL:https://indico.ific.uv.es/event/7664/contributions/25290/
END:VEVENT
END:VCALENDAR
