BEGIN:VCALENDAR
VERSION:2.0
PRODID:-//CERN//INDICO//EN
BEGIN:VEVENT
SUMMARY:VBF multi-Higgs production and LHC predictions
DTSTART;VALUE=DATE-TIME:20241119T143000Z
DTEND;VALUE=DATE-TIME:20241119T144500Z
DTSTAMP;VALUE=DATE-TIME:20260421T082705Z
UID:indico-contribution-25281@indico.ific.uv.es
DESCRIPTION:Speakers: Javier Martínez Martín (Universidad Complutense de
  Madrid & IPARCOS)\nWe have studied multi-Higgs production using the equiv
 alence theorem for VBF and made some studies with LHC data to give some fu
 ture predictions.\n\nhttps://indico.ific.uv.es/event/7664/contributions/25
 281/
LOCATION:
URL:https://indico.ific.uv.es/event/7664/contributions/25281/
END:VEVENT
END:VCALENDAR
