BEGIN:VCALENDAR
VERSION:2.0
PRODID:-//CERN//INDICO//EN
BEGIN:VEVENT
SUMMARY:Measurement of Isolated $J/\\psi$ Production in $pp$ Collisions at
  sqrt[s] = 13 TeV with the LHCb Experiment
DTSTART;VALUE=DATE-TIME:20241120T094000Z
DTEND;VALUE=DATE-TIME:20241120T100000Z
DTSTAMP;VALUE=DATE-TIME:20260422T032951Z
UID:indico-contribution-25013@indico.ific.uv.es
DESCRIPTION:Speakers: Lidia Carcedo Salgado (USC)\nhttps://indico.ific.uv.
 es/event/7664/contributions/25013/
LOCATION: M1 (Aula Magna)
URL:https://indico.ific.uv.es/event/7664/contributions/25013/
END:VEVENT
END:VCALENDAR
