BEGIN:VCALENDAR
VERSION:2.0
PRODID:-//CERN//INDICO//EN
BEGIN:VEVENT
SUMMARY:Multiplicity-dependent production as observable for hadron nature 
 testing at LHCb
DTSTART;VALUE=DATE-TIME:20241120T092000Z
DTEND;VALUE=DATE-TIME:20241120T094000Z
DTSTAMP;VALUE=DATE-TIME:20260422T032937Z
UID:indico-contribution-25012@indico.ific.uv.es
DESCRIPTION:Speakers: Ivan Cambon Bouzas (Universidade de Santiago de Comp
 ostela (ES))\nhttps://indico.ific.uv.es/event/7664/contributions/25012/
LOCATION: M1 (Aula Magna)
URL:https://indico.ific.uv.es/event/7664/contributions/25012/
END:VEVENT
END:VCALENDAR
