BEGIN:VCALENDAR
VERSION:2.0
PRODID:-//CERN//INDICO//EN
BEGIN:VEVENT
SUMMARY:Inclusive Flavour Tagging at the LHCb experiment
DTSTART;VALUE=DATE-TIME:20241120T084000Z
DTEND;VALUE=DATE-TIME:20241120T090000Z
DTSTAMP;VALUE=DATE-TIME:20260421T204622Z
UID:indico-contribution-25008@indico.ific.uv.es
DESCRIPTION:Speakers: John Wendel (UdC)\nhttps://indico.ific.uv.es/event/7
 664/contributions/25008/
LOCATION: M1 (Aula Magna)
URL:https://indico.ific.uv.es/event/7664/contributions/25008/
END:VEVENT
END:VCALENDAR
