BEGIN:VCALENDAR
VERSION:2.0
PRODID:-//CERN//INDICO//EN
BEGIN:VEVENT
SUMMARY:Integrating BSC Computing Infrastructure into ATLAS/CMS/LHCb
DTSTART;VALUE=DATE-TIME:20241120T080000Z
DTEND;VALUE=DATE-TIME:20241120T082000Z
DTSTAMP;VALUE=DATE-TIME:20260422T105528Z
UID:indico-contribution-25006@indico.ific.uv.es
DESCRIPTION:Speakers: Josep Flix (PIC / CIEMAT)\nhttps://indico.ific.uv.es
 /event/7664/contributions/25006/
LOCATION: M1 (Aula Magna)
URL:https://indico.ific.uv.es/event/7664/contributions/25006/
END:VEVENT
END:VCALENDAR
