BEGIN:VCALENDAR
VERSION:2.0
PRODID:-//CERN//INDICO//EN
BEGIN:VEVENT
SUMMARY:Unraveling boosted topologies with leptons and photons: new techni
 ques and recent results in ATLAS
DTSTART;VALUE=DATE-TIME:20241119T163000Z
DTEND;VALUE=DATE-TIME:20241119T165000Z
DTSTAMP;VALUE=DATE-TIME:20260424T154104Z
UID:indico-contribution-25004@indico.ific.uv.es
DESCRIPTION:Speakers: Luis Pascual (Universidad Autonoma de Madrid)\nhttps
 ://indico.ific.uv.es/event/7664/contributions/25004/
LOCATION: M1 (Aula Magna)
URL:https://indico.ific.uv.es/event/7664/contributions/25004/
END:VEVENT
END:VCALENDAR
