BEGIN:VCALENDAR
VERSION:2.0
PRODID:-//CERN//INDICO//EN
BEGIN:VEVENT
SUMMARY:Detector performance for high pT muons in CMS Run 3
DTSTART;VALUE=DATE-TIME:20241119T142000Z
DTEND;VALUE=DATE-TIME:20241119T144000Z
DTSTAMP;VALUE=DATE-TIME:20260421T204621Z
UID:indico-contribution-25003@indico.ific.uv.es
DESCRIPTION:Speakers: Diego Fernandez del Val (CIEMAT)\nhttps://indico.ifi
 c.uv.es/event/7664/contributions/25003/
LOCATION: M1 (Aula Magna)
URL:https://indico.ific.uv.es/event/7664/contributions/25003/
END:VEVENT
END:VCALENDAR
