BEGIN:VCALENDAR
VERSION:2.0
PRODID:-//CERN//INDICO//EN
BEGIN:VEVENT
SUMMARY:Exotic Higgs decay h -> Z a in the final state of two muons and tw
 o tau leptons
DTSTART;VALUE=DATE-TIME:20241119T161000Z
DTEND;VALUE=DATE-TIME:20241119T163000Z
DTSTAMP;VALUE=DATE-TIME:20260424T094701Z
UID:indico-contribution-25002@indico.ific.uv.es
DESCRIPTION:Speakers: ROSA MARIA SANDA SEOANE (IFT)\nhttps://indico.ific.u
 v.es/event/7664/contributions/25002/
LOCATION: M1 (Aula Magna)
URL:https://indico.ific.uv.es/event/7664/contributions/25002/
END:VEVENT
END:VCALENDAR
