BEGIN:VCALENDAR
VERSION:2.0
PRODID:-//CERN//INDICO//EN
BEGIN:VEVENT
SUMMARY:Searching for vector-like leptons in tau final states with the ATL
 AS detector
DTSTART;VALUE=DATE-TIME:20241119T140000Z
DTEND;VALUE=DATE-TIME:20241119T142000Z
DTSTAMP;VALUE=DATE-TIME:20260423T021600Z
UID:indico-contribution-24997@indico.ific.uv.es
DESCRIPTION:Speakers: Gabriel Oliveira Corrêa (IFAE - Barcelona)\nhttps:/
 /indico.ific.uv.es/event/7664/contributions/24997/
LOCATION: M1 (Aula Magna)
URL:https://indico.ific.uv.es/event/7664/contributions/24997/
END:VEVENT
END:VCALENDAR
