BEGIN:VCALENDAR
VERSION:2.0
PRODID:-//CERN//INDICO//EN
BEGIN:VEVENT
SUMMARY:Searches for electroweak production of SUSY particles with the CMS
  experiment
DTSTART;VALUE=DATE-TIME:20241119T132000Z
DTEND;VALUE=DATE-TIME:20241119T134000Z
DTSTAMP;VALUE=DATE-TIME:20260421T204623Z
UID:indico-contribution-24995@indico.ific.uv.es
DESCRIPTION:Speakers: Pablo Matorras (Instituto de Física de Cantabria (I
 FCA))\nhttps://indico.ific.uv.es/event/7664/contributions/24995/
LOCATION: M1 (Aula Magna)
URL:https://indico.ific.uv.es/event/7664/contributions/24995/
END:VEVENT
END:VCALENDAR
