BEGIN:VCALENDAR
VERSION:2.0
PRODID:-//CERN//INDICO//EN
BEGIN:VEVENT
SUMMARY:Exploring Higgs interactions within HEFT in HH and HHH production 
 at LHC
DTSTART;VALUE=DATE-TIME:20241119T130000Z
DTEND;VALUE=DATE-TIME:20241119T132000Z
DTSTAMP;VALUE=DATE-TIME:20260422T195948Z
UID:indico-contribution-24994@indico.ific.uv.es
DESCRIPTION:Speakers: Jose Daniel Domenech Moya (UAM)\nhttps://indico.ific
 .uv.es/event/7664/contributions/24994/
LOCATION: M1 (Aula Magna)
URL:https://indico.ific.uv.es/event/7664/contributions/24994/
END:VEVENT
END:VCALENDAR
