BEGIN:VCALENDAR
VERSION:2.0
PRODID:-//CERN//INDICO//EN
BEGIN:VEVENT
SUMMARY:Report from the Spanish FPN Program Manager
DTSTART;VALUE=DATE-TIME:20241121T120000Z
DTEND;VALUE=DATE-TIME:20241121T122500Z
DTSTAMP;VALUE=DATE-TIME:20260421T082705Z
UID:indico-contribution-24592@indico.ific.uv.es
DESCRIPTION:Speakers: Pilar Hernández (IFIC\, CSIC-U. Valencia)\nhttps://
 indico.ific.uv.es/event/7664/contributions/24592/
LOCATION:
URL:https://indico.ific.uv.es/event/7664/contributions/24592/
END:VEVENT
END:VCALENDAR
